BEGIN:VCALENDAR
VERSION:2.0
PRODID:-//YFK - ECPv5.14.1//NONSGML v1.0//EN
CALSCALE:GREGORIAN
METHOD:PUBLISH
X-WR-CALNAME:YFK
X-ORIGINAL-URL:https://yfk.org.pk
X-WR-CALDESC:Events for YFK
REFRESH-INTERVAL;VALUE=DURATION:PT1H
X-Robots-Tag:noindex
X-PUBLISHED-TTL:PT1H
BEGIN:VTIMEZONE
TZID:Asia/Karachi
BEGIN:STANDARD
TZOFFSETFROM:+0500
TZOFFSETTO:+0500
TZNAME:PKT
DTSTART:20230101T000000
END:STANDARD
END:VTIMEZONE
BEGIN:VEVENT
DTSTART;TZID=Asia/Karachi:20230228T080000
DTEND;TZID=Asia/Karachi:20230305T170000
DTSTAMP:20260423T220500
CREATED:20230228T123958Z
LAST-MODIFIED:20230228T123958Z
UID:7194-1677571200-1678035600@yfk.org.pk
SUMMARY:International Women's Day Documentary Competition | March 08\, 2023
DESCRIPTION:In commemoration of International Women’s Day 2023\, YFK-International Kashmir Lobby Group is organizing a video/documentary competition on the themes related to Kashmiri women’s problems and resilience. Judgment criteria for the competition is the originality of the content and creativity. The submission deadline is 5th March 2023. \nTheme: \n\nDifficulties faced by Kashmiri women (insecurity\, fears\, vulnerability\, etc.)\nChallenges specific to women in Indian Occupied Jammu and Kashmir (half-widows\, women journalism\, resilience\, struggle\, etc.)\n\nInstructions: \n\nCreativity\, critical thinking\, and graphic design.\nParticipants can cover the story of a real-life case study of women as a documentary\, record a tablo related to the theme; make a video from online material that goes in line with the required theme\, etc.\nTime span: Min. 60 sec. to the max. 150 sec.
URL:https://yfk.org.pk/event/international-womens-day-documentary-competition-march-08-2023/
LOCATION:Islamabad
CATEGORIES:Kashmir,Virtual Event
ATTACH;FMTTYPE=image/png:https://yfk.org.pk/wp-content/uploads/2023/02/Competition-Banner.png
END:VEVENT
END:VCALENDAR