BEGIN:VCALENDAR
VERSION:2.0
PRODID:-//YFK - ECPv5.14.1//NONSGML v1.0//EN
CALSCALE:GREGORIAN
METHOD:PUBLISH
X-WR-CALNAME:YFK
X-ORIGINAL-URL:https://yfk.org.pk
X-WR-CALDESC:Events for YFK
REFRESH-INTERVAL;VALUE=DURATION:PT1H
X-Robots-Tag:noindex
X-PUBLISHED-TTL:PT1H
BEGIN:VTIMEZONE
TZID:Asia/Karachi
BEGIN:STANDARD
TZOFFSETFROM:+0500
TZOFFSETTO:+0500
TZNAME:PKT
DTSTART:20230101T000000
END:STANDARD
END:VTIMEZONE
BEGIN:VEVENT
DTSTART;TZID=Asia/Karachi:20230714T080000
DTEND;TZID=Asia/Karachi:20230725T233000
DTSTAMP:20260423T153133
CREATED:20230714T112350Z
LAST-MODIFIED:20230714T113000Z
UID:7270-1689321600-1690327800@yfk.org.pk
SUMMARY:YFK Announces A Painting Competition To Highlight HR Violations in IIOJK
DESCRIPTION:Islamabad: YFK-International Kashmir Lobby Group is organizing a Painting competition on 5th August\, 2023. The purpose of this competition is to portray the atrocities of India over people of IIOJK after the abrogation of article 375 and 35 A. The theme of the painting should encompass the sufferings and calamities faced by the Kashmiris due to revocation of articles. It should stress over the exploitation of the rights and Kashmiris being victims of the Indians forces brutal actions as the consequences of the abrogation. “IIOJK- A land in Chains\, torn childhood\, unheard cries and eternal waiting can be prominent topics. The competition aims to highlight the oppressive actions taken by the India to exploit the human rights. YFK encourages all age groups to step forward and participate in the competition to express solidarity through this act of support and to honor their struggles. The paintings would be displayed in renowned Art gallery in Islamabad. The first prize winner will be awarded with PKP 30\,000 second 20\,000 and third 10\,000. Interested peers should register themselves through the link given at the end. Send your paintings prior to 25th July\, 2023. \nRegistration Link: https://forms.gle/FbQKhgnAwLK9iYXq9 \nSend your paintings at; House No. 567\, Street No. 109\, I-8/4 Islamabad Pakistan \nContact us: 0321-5274647 /03155216152
URL:https://yfk.org.pk/event/yfk-announces-a-painting-competition-to-highlight-hr-violations-in-iiojk/
LOCATION:Islamabad\, 567\, Street 109\, I-8/4\, Islamabad\, Islamabad\, Islamabad\, 44000\, Pakistan
CATEGORIES:Azad kashmir,Kashmir
ATTACH;FMTTYPE=image/png:https://yfk.org.pk/wp-content/uploads/2023/07/Painting-Competition.png
END:VEVENT
END:VCALENDAR